BEGIN:VCALENDAR
VERSION:2.0
PRODID:-//Center for Disability Rights - ECPv4.6.1//NONSGML v1.0//EN
CALSCALE:GREGORIAN
METHOD:PUBLISH
X-WR-CALNAME:Center for Disability Rights
X-ORIGINAL-URL:https://cdrnys.org
X-WR-CALDESC:Events for Center for Disability Rights
BEGIN:VEVENT
DTSTART;TZID=America/New_York:20180119T123000
DTEND;TZID=America/New_York:20180119T143000
DTSTAMP:20260425T170241
CREATED:20180102T151723Z
LAST-MODIFIED:20180102T212102Z
UID:4106-1516365000-1516372200@cdrnys.org
SUMMARY:Patti's Pantry with the Recreation Center
DESCRIPTION:Join us on Friday\, January 19th\, at Patti’s Pantry with Recreation Center! \nContact our Recreation Manager at kpeeso@cdrnys.org or by calling 585-546-7510 for more information and to reserve a spot! \n
URL:https://cdrnys.org/event/pattis-pantry-at-the-recreation-center/
LOCATION:2485 Dewey Avenue\, Rochester\, NY\, 14616\, United States
GEO:43.2140127;-77.6403315
X-APPLE-STRUCTURED-LOCATION;VALUE=URI;X-ADDRESS=2485 Dewey Avenue Rochester NY 14616 United States;X-APPLE-RADIUS=500;X-TITLE=2485 Dewey Avenue:geo:-77.6403315,43.2140127
CATEGORIES:Programs
ORGANIZER;CN="Manager%20of%20Recreation%20Services":MAILTO:kpeeso@cdrnys.org 
END:VEVENT
END:VCALENDAR