BEGIN:VCALENDAR
VERSION:2.0
PRODID:-//Center for Disability Rights - ECPv4.6.1//NONSGML v1.0//EN
CALSCALE:GREGORIAN
METHOD:PUBLISH
X-WR-CALNAME:Center for Disability Rights
X-ORIGINAL-URL:https://cdrnys.org
X-WR-CALDESC:Events for Center for Disability Rights
BEGIN:VEVENT
DTSTART;TZID=America/New_York:20171229T130000
DTEND;TZID=America/New_York:20171229T170000
DTSTAMP:20260426T001354
CREATED:20171130T211413Z
LAST-MODIFIED:20171130T211413Z
UID:4077-1514552400-1514566800@cdrnys.org
SUMMARY:New Year's Party with Recreation Center
DESCRIPTION:Join us on Friday\, December 29th\, for New Year’s Party with Recreation Center! \nContact our Recreation Manager at kpeeso@cdrnys.org or by calling 585-546-7510 for more information and to reserve a spot! \n
URL:https://cdrnys.org/event/new-years-party-with-recreation-center/
LOCATION:41 Backus Street\, Rochester\, NY\, 14608\, United States
GEO:43.1717442;-77.6328652
X-APPLE-STRUCTURED-LOCATION;VALUE=URI;X-ADDRESS=41 Backus Street Rochester NY 14608 United States;X-APPLE-RADIUS=500;X-TITLE=41 Backus Street:geo:-77.6328652,43.1717442
CATEGORIES:Programs
ORGANIZER;CN="Manager%20of%20Recreation%20Services":MAILTO:kpeeso@cdrnys.org 
END:VEVENT
END:VCALENDAR