BEGIN:VCALENDAR
VERSION:2.0
PRODID:-//Center for Disability Rights - ECPv4.6.1//NONSGML v1.0//EN
CALSCALE:GREGORIAN
METHOD:PUBLISH
X-WR-CALNAME:Center for Disability Rights
X-ORIGINAL-URL:https://cdrnys.org
X-WR-CALDESC:Events for Center for Disability Rights
BEGIN:VEVENT
DTSTART;TZID=America/New_York:20180108T150000
DTEND;TZID=America/New_York:20180108T170000
DTSTAMP:20260425T204748
CREATED:20180102T151429Z
LAST-MODIFIED:20180102T151429Z
UID:4104-1515423600-1515430800@cdrnys.org
SUMMARY:Elvis Movie at the Recreation Center
DESCRIPTION:Join us on Monday\, January 8th\, for Elvis Movie with Recreation Center! \nContact our Recreation Manager at kpeeso@cdrnys.org or by calling 585-546-7510 for more information and to reserve a spot! \n
URL:https://cdrnys.org/event/elvis-movie-at-the-recreation-center/
LOCATION:41 Backus Street\, Rochester\, NY\, 14608\, United States
GEO:43.1717442;-77.6328652
X-APPLE-STRUCTURED-LOCATION;VALUE=URI;X-ADDRESS=41 Backus Street Rochester NY 14608 United States;X-APPLE-RADIUS=500;X-TITLE=41 Backus Street:geo:-77.6328652,43.1717442
CATEGORIES:Programs
ORGANIZER;CN="Manager%20of%20Recreation%20Services":MAILTO:kpeeso@cdrnys.org 
END:VEVENT
END:VCALENDAR