BEGIN:VCALENDAR
VERSION:2.0
PRODID:-//Center for Disability Rights - ECPv4.6.1//NONSGML v1.0//EN
CALSCALE:GREGORIAN
METHOD:PUBLISH
X-WR-CALNAME:Center for Disability Rights
X-ORIGINAL-URL:https://cdrnys.org
X-WR-CALDESC:Events for Center for Disability Rights
BEGIN:VEVENT
DTSTART;VALUE=DATE:20180206
DTEND;VALUE=DATE:20180207
DTSTAMP:20260425T152629
CREATED:20180206T190116Z
LAST-MODIFIED:20181108T163108Z
UID:4182-1517875200-1517961599@cdrnys.org
SUMMARY:CDR Closes on Labor Day
DESCRIPTION:All CDR/RCIL/AAY’s programs and offices will be closed in recognition of the Labor Day. \n
URL:https://cdrnys.org/event/cdr-closes-on-labor-day/
CATEGORIES:Advocacy,Development,Programs
END:VEVENT
END:VCALENDAR