BEGIN:VCALENDAR
VERSION:2.0
PRODID:-//Center for Disability Rights - ECPv4.6.1//NONSGML v1.0//EN
CALSCALE:GREGORIAN
METHOD:PUBLISH
X-WR-CALNAME:Center for Disability Rights
X-ORIGINAL-URL:https://cdrnys.org
X-WR-CALDESC:Events for Center for Disability Rights
BEGIN:VEVENT
DTSTART;VALUE=DATE:20190101
DTEND;VALUE=DATE:20190102
DTSTAMP:20260425T030112
CREATED:20181226T200244Z
LAST-MODIFIED:20181226T200244Z
UID:4555-1546300800-1546387199@cdrnys.org
SUMMARY:CDR Closes for New Years Day
DESCRIPTION:All CDR/RCIL/AAY’s programs and offices will be closed on January 1st\, in recognition of the New Year. \n
URL:https://cdrnys.org/event/cdr-closes-for-new-years-day-2/
CATEGORIES:Advocacy,Development,Programs
END:VEVENT
END:VCALENDAR