BEGIN:VCALENDAR
VERSION:2.0
PRODID:-//Center for Disability Rights - ECPv4.6.1//NONSGML v1.0//EN
CALSCALE:GREGORIAN
METHOD:PUBLISH
X-WR-CALNAME:Center for Disability Rights
X-ORIGINAL-URL:https://cdrnys.org
X-WR-CALDESC:Events for Center for Disability Rights
BEGIN:VEVENT
DTSTART;VALUE=DATE:20180115
DTEND;VALUE=DATE:20180116
DTSTAMP:20260425T184905
CREATED:20180102T151907Z
LAST-MODIFIED:20181109T211912Z
UID:4108-1515974400-1516060799@cdrnys.org
SUMMARY:CDR closes for Martin Luther King Day
DESCRIPTION:All CDR/RCIL/AAY’s programs and offices will be closed today\, in recognition of Martin Luther King Day. \n
URL:https://cdrnys.org/event/cdr-closes-for-martin-luther-king-day/2018-01-15/
CATEGORIES:Advocacy,Development,Programs
END:VEVENT
END:VCALENDAR