BEGIN:VCALENDAR
VERSION:2.0
PRODID:-//Center for Disability Rights - ECPv4.6.1//NONSGML v1.0//EN
CALSCALE:GREGORIAN
METHOD:PUBLISH
X-WR-CALNAME:Center for Disability Rights
X-ORIGINAL-URL:https://cdrnys.org
X-WR-CALDESC:Events for Center for Disability Rights
BEGIN:VEVENT
DTSTART;VALUE=DATE:20251127
DTEND;VALUE=DATE:20251129
DTSTAMP:20260419T184844
CREATED:20251125T145947Z
LAST-MODIFIED:20251125T145947Z
UID:7669-1764201600-1764374399@cdrnys.org
SUMMARY:CDR Closed for Thanksgiving
DESCRIPTION:
URL:https://cdrnys.org/event/cdr-closed-for-thanksgiving/
END:VEVENT
END:VCALENDAR