BEGIN:VCALENDAR
VERSION:2.0
PRODID:-//Center for Disability Rights - ECPv4.6.1//NONSGML v1.0//EN
CALSCALE:GREGORIAN
METHOD:PUBLISH
X-WR-CALNAME:Center for Disability Rights
X-ORIGINAL-URL:https://cdrnys.org
X-WR-CALDESC:Events for Center for Disability Rights
BEGIN:VEVENT
DTSTART;TZID=America/New_York:20171227T150000
DTEND;TZID=America/New_York:20171227T170000
DTSTAMP:20260426T014559
CREATED:20170502T204513Z
LAST-MODIFIED:20170502T204513Z
UID:3733-1514386800-1514394000@cdrnys.org
SUMMARY:CDPAS Open Interviews
DESCRIPTION: \nCDPAS Open Interviews\nOffering a neutral meeting place for people looking for jobs as Personal Care Providers to meet with Consumer Supervisors who are interested in hiring people interested in providing personal care. \nConsumer Directed Personal Assistant Services:\nCDPAS allows individuals with disabilities requiring personal care the opportunity to Supervise their own personal care services. The Consumer Supervisor assumes all of the responsibilities associated with employing their Attendants and uses CDR for processing payroll for their Attendants\, and billing Medicaid for the personal care services their Attendants have provided. \nFor Individuals Who Want to Become Attendants:\nAttendants are not required to have prior training or experience to apply for a position with any Supervisor. Attendants cannot have any physical restrictions limiting their ability to work. Some possible responsibilities may include bathing\, dressing\, cooking\, cleaning\, feeding\, medication management\, etc. Benefits include earning Vacation & Sick Pay\, 401k\, and Supervisors often offer very flexible schedules. \nFor Supervisors:\nSupervisors or Designated Representatives are responsible for recruiting\, interviewing\, screening\, hiring\, training\, scheduling\, disciplining\, and potentially terminating their Attendants. \nFor more information\, or to attend Open Interviews\, contact your Supervisor Support Specialist. \nSchedules of Our Open Interviews for the Year 2017:\nWayne/Yates/Seneca/Ontario Counties at Geneva CDR:\n24 Castle Street\, Geneva\, NY 14456\n315.789.1800\n3:00pm – 5:00pm\nApril 26th • June 28th • August 23rd • October 18th • December 27th \nMonroe County at Rochester CDR:\n497 State Street\, Rochester\, NY 14608\n585.546.7510\n3:00pm – 5:00pm\nApril 26th • June 28th • August 23rd • October 18th • December 27th \nSouthern Tier Counties at Corning CDR:\n23 W. Market St\, Suite 103\, Corning\, NY 14830\n607.654.0030\n3:00pm – 5:00pm\nApril 26th • June 28th • August 23rd • October 18th • December 27th \nFor more information and to attend our Open Interviews\, please RSVP a week in advance to Customer Service Representative. \nAbout Center for Disability Rights:\nCenter for Disability Rights\, CDR\, does not “hire” the attendants for the Consumer Supervisors. CDR is simply the Fiscal Intermediary provider the Consumer Supervisor uses for their CDPAS program. By accepting employment in the CDPAS program\, all Attendants are reminded that they are employed by their Consumer Supervisor\, but paid through CDR. \n
URL:https://cdrnys.org/event/cdpas-open-interviews-4/
LOCATION:NY\, United States
GEO:40.7127837;-74.0059413
CATEGORIES:Programs
END:VEVENT
END:VCALENDAR