BEGIN:VCALENDAR
VERSION:2.0
PRODID:-//Center for Disability Rights - ECPv4.6.1//NONSGML v1.0//EN
CALSCALE:GREGORIAN
METHOD:PUBLISH
X-WR-CALNAME:Center for Disability Rights
X-ORIGINAL-URL:https://cdrnys.org
X-WR-CALDESC:Events for Center for Disability Rights
BEGIN:VEVENT
DTSTART;VALUE=DATE:20190318
DTEND;VALUE=DATE:20190319
DTSTAMP:20260425T010151
CREATED:20190111T214719Z
LAST-MODIFIED:20190111T214719Z
UID:4607-1552867200-1552953599@cdrnys.org
SUMMARY:AAY PCA Training Begins
DESCRIPTION:Are you interested in a career in home care? This opportunity may be for you! AAY offers a 40-hour Personal Care Aide (PCA) Training Program certified with the NYS Dept. of Health\, for individuals to receive a PCA certificate. This free program is available to qualified applicants\, over age 18\, who are keen on earning a PCA certificate. It Gets Even Better! There are opportunities for employment with All About You Home Care after you have successfully completed the training! Already certified and active PCA’s are welcome to apply as well. \nPlease check out http://www.aayhc.org/join-our-team to learn more. Applications may be dropped off in person\, mailed to us (Human Resources\, 497 State St\, Rochester\, NY 14608)\, or emailed to jbrown@cdrnys.org.  \nApplicants must complete and submit an AAY Application for Training and Employment in order to be considered for a screening interview and admission to the class. \nThis session runs from March 18th to March 29th. \n
URL:https://cdrnys.org/event/aay-pca-training-begins-2/
LOCATION:497 State Street\, Rochester\, NY\, 14608\, United States
GEO:43.163435;-77.6222324
X-APPLE-STRUCTURED-LOCATION;VALUE=URI;X-ADDRESS=497 State Street Rochester NY 14608 United States;X-APPLE-RADIUS=500;X-TITLE=497 State Street:geo:-77.6222324,43.163435
CATEGORIES:Programs
END:VEVENT
END:VCALENDAR